BEGIN:VCALENDAR
VERSION:2.0
PRODID:-//Destination Silver Star - ECPv6.15.20//NONSGML v1.0//EN
CALSCALE:GREGORIAN
METHOD:PUBLISH
X-ORIGINAL-URL:https://destinationsilverstar.com
X-WR-CALDESC:Events for Destination Silver Star
REFRESH-INTERVAL;VALUE=DURATION:PT1H
X-Robots-Tag:noindex
X-PUBLISHED-TTL:PT1H
BEGIN:VTIMEZONE
TZID:America/Vancouver
BEGIN:DAYLIGHT
TZOFFSETFROM:-0800
TZOFFSETTO:-0700
TZNAME:PDT
DTSTART:20250309T100000
END:DAYLIGHT
BEGIN:STANDARD
TZOFFSETFROM:-0700
TZOFFSETTO:-0800
TZNAME:PST
DTSTART:20251102T090000
END:STANDARD
BEGIN:DAYLIGHT
TZOFFSETFROM:-0800
TZOFFSETTO:-0700
TZNAME:PDT
DTSTART:20260308T100000
END:DAYLIGHT
BEGIN:STANDARD
TZOFFSETFROM:-0700
TZOFFSETTO:-0800
TZNAME:PST
DTSTART:20261101T090000
END:STANDARD
BEGIN:DAYLIGHT
TZOFFSETFROM:-0800
TZOFFSETTO:-0700
TZNAME:PDT
DTSTART:20270314T100000
END:DAYLIGHT
BEGIN:STANDARD
TZOFFSETFROM:-0700
TZOFFSETTO:-0800
TZNAME:PST
DTSTART:20271107T090000
END:STANDARD
END:VTIMEZONE
BEGIN:VEVENT
DTSTART;VALUE=DATE:20260327
DTEND;VALUE=DATE:20260406
DTSTAMP:20260421T045905
CREATED:20251230T211825Z
LAST-MODIFIED:20260316T180416Z
UID:10000572-1774569600-1775433599@destinationsilverstar.com
SUMMARY:SEISMIC
DESCRIPTION:It’s a celebration of mountain culture\, with 10 days of sport\, music\, art\, craft and culinary. It’s a week of good vibes\, amazing spring skiing\, and fun times for the entire family. Expect to see free live music\, arts and crafts\, official après kick-off Après zone\, BBQs & beer gardens\, comedy nights\, film nights as well as the return of signature Sport Events including Timber Tour\, S2S Ski Marathon and more! \nCheck out the full event schedule here: SEISMIC Event Schedule \nWHEN: 27th March – 5th April\, 2026. \nWHERE: SilverStar Mountain Resort
URL:https://destinationsilverstar.com/event/seismic/
ATTACH;FMTTYPE=image/png:https://destinationsilverstar.com/wp-content/uploads/2025/01/2.png
END:VEVENT
END:VCALENDAR