BEGIN:VCALENDAR
VERSION:2.0
PRODID:-//Destination Silver Star - ECPv6.15.20//NONSGML v1.0//EN
CALSCALE:GREGORIAN
METHOD:PUBLISH
X-WR-CALNAME:Destination Silver Star
X-ORIGINAL-URL:https://destinationsilverstar.com
X-WR-CALDESC:Events for Destination Silver Star
REFRESH-INTERVAL;VALUE=DURATION:PT1H
X-Robots-Tag:noindex
X-PUBLISHED-TTL:PT1H
BEGIN:VTIMEZONE
TZID:America/Vancouver
BEGIN:DAYLIGHT
TZOFFSETFROM:-0800
TZOFFSETTO:-0700
TZNAME:PDT
DTSTART:20250309T100000
END:DAYLIGHT
BEGIN:STANDARD
TZOFFSETFROM:-0700
TZOFFSETTO:-0800
TZNAME:PST
DTSTART:20251102T090000
END:STANDARD
BEGIN:DAYLIGHT
TZOFFSETFROM:-0800
TZOFFSETTO:-0700
TZNAME:PDT
DTSTART:20260308T100000
END:DAYLIGHT
BEGIN:STANDARD
TZOFFSETFROM:-0700
TZOFFSETTO:-0800
TZNAME:PST
DTSTART:20261101T090000
END:STANDARD
BEGIN:DAYLIGHT
TZOFFSETFROM:-0800
TZOFFSETTO:-0700
TZNAME:PDT
DTSTART:20270314T100000
END:DAYLIGHT
BEGIN:STANDARD
TZOFFSETFROM:-0700
TZOFFSETTO:-0800
TZNAME:PST
DTSTART:20271107T090000
END:STANDARD
END:VTIMEZONE
BEGIN:VEVENT
DTSTART;TZID=America/Vancouver:20260402T180000
DTEND;TZID=America/Vancouver:20260402T200000
DTSTAMP:20260423T080527
CREATED:20251230T211448Z
LAST-MODIFIED:20251230T211448Z
UID:10000571-1775152800-1775160000@destinationsilverstar.com
SUMMARY:Vaz Art Paint and Sip
DESCRIPTION:Join us for an evening of creativity\, inspiration\, and fun hosted by Vaz Art! Vaz Art will lead you in a 2-hour paint class to create your own masterpiece. Art pieces are inspired by the beauty of SilverStar and Okanagan Valley. You will be able to take your creation home with you! \nWHEN: April 2 at 6pm \nWHERE: Town Hall \nPRICE: $55 per person (plus taxes and fees). Includes all art supplies and complimentary glass of wine or non-alcoholic beverage. \nREGISTER NOW
URL:https://destinationsilverstar.com/event/vaz-art-paint-and-sip-4/
ATTACH;FMTTYPE=image/png:https://destinationsilverstar.com/wp-content/uploads/2025/06/DSS-Event-Listings-29.png
END:VEVENT
BEGIN:VEVENT
DTSTART;TZID=America/Vancouver:20260402T140000
DTEND;TZID=America/Vancouver:20260402T190000
DTSTAMP:20260423T080527
CREATED:20260323T221614Z
LAST-MODIFIED:20260323T221614Z
UID:10000629-1775138400-1775156400@destinationsilverstar.com
SUMMARY:S2S Stussi Night Sprints
DESCRIPTION:Get warmed up for the main S2S Ski Marathon event by doing some interval sprints on Thursday\, or come out and watch some of the best skiers doing battle in an exciting 1.1km loop.  There are two categories: Racer/Elite (eligible for prize money) and Competitive (for those that want to give it a go\, but don’t want to go up against the best of the best.) \nWHEN: Thursday\, April 2\, 2026\, 2:00pm-7:00pm \nWHERE: Sovereign Lake Nordic Club \nREGISTRATION: Sovereign2SilverStar – Registration
URL:https://destinationsilverstar.com/event/s2s-stussi-night-sprints/
LOCATION:Sovereign Lake Nordic Centre\, Canada
ATTACH;FMTTYPE=image/png:https://destinationsilverstar.com/wp-content/uploads/2026/03/DSS-Event-Listings-41.png
END:VEVENT
BEGIN:VEVENT
DTSTART;TZID=America/Vancouver:20260329T173000
DTEND;TZID=America/Vancouver:20260329T210000
DTSTAMP:20260423T080527
CREATED:20251230T212355Z
LAST-MODIFIED:20251230T212355Z
UID:10000574-1774805400-1774818000@destinationsilverstar.com
SUMMARY:Wine Dinner at The Den
DESCRIPTION:SAVE THE DATE! \nJoin us on Sunday March 29th for a night of fine dining at d’argento with Summerhill Winery. \nMenu and booking details coming soon! \nPlease contact hmrkvicka@skisilverstar.com for questions or to save a table.
URL:https://destinationsilverstar.com/event/wine-dinner-at-the-den-5/
ATTACH;FMTTYPE=image/jpeg:https://destinationsilverstar.com/wp-content/uploads/2025/11/3.jpg
END:VEVENT
BEGIN:VEVENT
DTSTART;TZID=America/Vancouver:20260328T160000
DTEND;TZID=America/Vancouver:20260328T180000
DTSTAMP:20260423T080527
CREATED:20251230T212152Z
LAST-MODIFIED:20251230T212152Z
UID:10000573-1774713600-1774720800@destinationsilverstar.com
SUMMARY:Salomon SEISMIC Rail Jam
DESCRIPTION:The FOURTH Rail Jam of the season presented by Salomon\, 686\, and SPY Optic is going down on March 28th! \nSign up to ride an all new set up in the heart of the SilverStar Village. If you’re not riding then stick around and watch the action live. \nWe will have DJ Hi-Status playing to keep the vibes high and riders throwing down all event long! The jam will be judged on style\, trick difficulty\, and overall impression. Prizing is supported from our friends at 686 and SPY Optic\, and stick around for the chance to win a bib draw at the end of the event! \nWhere: Village\, end of Townhall\nWhen: Saturday March 28th\, 4:00pm – 6:00pm\nHow Much to Compete: $10\nHow Much to Watch: FREE! \n\n2:00pm – 3:00pm: Registration/Bib Pick Up Outside Guest Services\n4:00pm – 4:15pm: U16 Warm-Up\n4:15pm – 4:45pm: U16 Comp\n4:45pm: U16 Awards\n4:45pm – 5:00pm: Course Buff\n5:00pm – 5:15pm: Open Category Warm Up\n5:30pm – 6:00pm: Open Category Comp\n6:00pm: Open Awards\nREGISTER HERE\n\n*Locations Snow Dependent\nTimes and categories subject to change based on registration Price: $10.00 plus taxes and fees\nCategories will be determined based on sign-ups.\nAll competitors must wear a helmet to compete in the rail jam.
URL:https://destinationsilverstar.com/event/salomon-jam/
ATTACH;FMTTYPE=image/jpeg:https://destinationsilverstar.com/wp-content/uploads/2024/12/Rail-Jam_BreeT-11.jpg
END:VEVENT
BEGIN:VEVENT
DTSTART;TZID=America/Vancouver:20260328T153000
DTEND;TZID=America/Vancouver:20260328T180000
DTSTAMP:20260423T080527
CREATED:20260323T223108Z
LAST-MODIFIED:20260323T223108Z
UID:10000630-1774711800-1774720800@destinationsilverstar.com
SUMMARY:Tails on Trails Skijor
DESCRIPTION:Sovereign Lake Nordic Centre is hosting the 3rd annual Tails on Trails Skijoring Event on March 28th.  One of the happiest events of the year!  With tails wagging and people laughing\, it’s a great time to come out and participate with your best friend (or maybe someone else’s) or just come out and watch all the happy faces. \nWHEN: March 28\, 2026\, 3:30pm-5:45pm \nWHERE: Sovereign Lake Nordic Club \nREGISTRATION: Tails On Trails Skijoring Event – Sovereign Lake Nordic Club
URL:https://destinationsilverstar.com/event/tails-on-trails-skijor/
LOCATION:Sovereign Lake Nordic Centre\, Canada
ATTACH;FMTTYPE=image/png:https://destinationsilverstar.com/wp-content/uploads/2026/03/DSS-Event-Listings-42.png
END:VEVENT
BEGIN:VEVENT
DTSTART;TZID=America/Vancouver:20260326T160000
DTEND;TZID=America/Vancouver:20260326T180000
DTSTAMP:20260423T080527
CREATED:20260324T192536Z
LAST-MODIFIED:20260324T192536Z
UID:10000631-1774540800-1774548000@destinationsilverstar.com
SUMMARY:Apres Design Series: The Hidden Economics of Performance Mountain Flooring
DESCRIPTION:Learn how the right flooring choices can reduce maintenance costs\, extend replacement cycles\, and boost rental income in mountain properties. Featuring insights from Shaw Contract and Ploutos Enterprises\, this Après Design session explores how broadloom\, carpet tile\, and resilient flooring perform in alpine environments — and why strategic specification is one of the highest-impact investments you can make. \n  \n Thursday\, March 26 4:00 – 6:00 PM Silver Star Design Centre $25 per person – Register Now
URL:https://destinationsilverstar.com/event/apres-design-series-the-hidden-economics-of-performance-mountain-flooring/
LOCATION:Silver Star Design Centre\, 148 Silver Lode Lane\, Vernon\, BC\, V1B 3M1
ATTACH;FMTTYPE=image/png:https://destinationsilverstar.com/wp-content/uploads/2026/03/DSS-Event-Listings-39.png
END:VEVENT
BEGIN:VEVENT
DTSTART;TZID=America/Vancouver:20260322T200000
DTEND;TZID=America/Vancouver:20260322T235900
DTSTAMP:20260423T080527
CREATED:20260219T193139Z
LAST-MODIFIED:20260219T193139Z
UID:10000622-1774209600-1774223940@destinationsilverstar.com
SUMMARY:Karaoke at Black Pine Social
DESCRIPTION:Grab the mic and sing your heart out like you’re headlining a world tour—or don’t.\nNo pressure\, no judgment. Just drinks\, vibes\, and top-tier people-watching. 🍸✨ \n  \nWHERE: Black Pine  \nWHEN: Starting at 8pm 
URL:https://destinationsilverstar.com/event/karaoke-at-black-pine-social-3/
LOCATION:Black Pine\, 148 Silver Lode Lane\, Silver Star\, BC\, Canada
ATTACH;FMTTYPE=image/png:https://destinationsilverstar.com/wp-content/uploads/2026/02/DSS-Event-Listings-31.png
END:VEVENT
END:VCALENDAR