BEGIN:VCALENDAR
VERSION:2.0
PRODID:-//Destination Silver Star - ECPv6.15.20//NONSGML v1.0//EN
CALSCALE:GREGORIAN
METHOD:PUBLISH
X-WR-CALNAME:Destination Silver Star
X-ORIGINAL-URL:https://destinationsilverstar.com
X-WR-CALDESC:Events for Destination Silver Star
REFRESH-INTERVAL;VALUE=DURATION:PT1H
X-Robots-Tag:noindex
X-PUBLISHED-TTL:PT1H
BEGIN:VTIMEZONE
TZID:America/Vancouver
BEGIN:DAYLIGHT
TZOFFSETFROM:-0800
TZOFFSETTO:-0700
TZNAME:PDT
DTSTART:20250309T100000
END:DAYLIGHT
BEGIN:STANDARD
TZOFFSETFROM:-0700
TZOFFSETTO:-0800
TZNAME:PST
DTSTART:20251102T090000
END:STANDARD
BEGIN:DAYLIGHT
TZOFFSETFROM:-0800
TZOFFSETTO:-0700
TZNAME:PDT
DTSTART:20260308T100000
END:DAYLIGHT
BEGIN:STANDARD
TZOFFSETFROM:-0700
TZOFFSETTO:-0800
TZNAME:PST
DTSTART:20261101T090000
END:STANDARD
BEGIN:DAYLIGHT
TZOFFSETFROM:-0800
TZOFFSETTO:-0700
TZNAME:PDT
DTSTART:20270314T100000
END:DAYLIGHT
BEGIN:STANDARD
TZOFFSETFROM:-0700
TZOFFSETTO:-0800
TZNAME:PST
DTSTART:20271107T090000
END:STANDARD
END:VTIMEZONE
BEGIN:VEVENT
DTSTART;VALUE=DATE:20260405
DTEND;VALUE=DATE:20260406
DTSTAMP:20260423T073708
CREATED:20260204T215037Z
LAST-MODIFIED:20260204T215037Z
UID:10000614-1775347200-1775433599@destinationsilverstar.com
SUMMARY:Easter Egg Scavenger Hunt
DESCRIPTION:The great SilverStar Easter Egg Scavenger Hunt is happening Sunday April 5th\, 2026 – hunt for clues to eggs all around the mountain! The more clues you find the more raffle tickets you will receive for a chance to win an Easter prize pack! \nMORE DETAILS COMING SOON
URL:https://destinationsilverstar.com/event/easter-egg-scavenger-hunt/
ATTACH;FMTTYPE=image/png:https://destinationsilverstar.com/wp-content/uploads/2026/02/DSS-Event-Listings-30.png
END:VEVENT
BEGIN:VEVENT
DTSTART;VALUE=DATE:20260408
DTEND;VALUE=DATE:20260412
DTSTAMP:20260423T073708
CREATED:20260316T182116Z
LAST-MODIFIED:20260316T182116Z
UID:10000625-1775606400-1775951999@destinationsilverstar.com
SUMMARY:NITP's Gathering Grounds
DESCRIPTION:NITP’s Gathering Grounds\nApril 8\, 2026 - April 11\, 2026 \nA multiple day gathering where different female focused snow events collide together to uplift community\, build skills within the industry\, and show off their talent. Made for builders\, riders\, and photographers alike! \nThe Creative Surge: April 11 \nAt the heart of this gathering lies The Creative Surge; a competition that unleashes bold riding and photography\, rewarding creativity above all. This event is for female and non-binary skiers\, snowboarders and photographers. The set up is built to enhance riders’ creativity with thoughtfully designed snow features. With an innovative build and epic riding\, it creates the perfect setting for photographers to capture something unique while competing for photo of the day. \nIt’s a competition that feeds into the core culture of the snow industry\, keeping it fun\, uplifting\, and a friendly environment both on and off the snow. With podiums for each art form (skiing\, boarding\, and photography) you can expect a prize purse and sick prizing to enhance your win. Gather the homies and join NITP for this one-of-a-kind event! \nIf you want to see the action go down\, come cheer on the riders in the watching grounds found at the bottom of the park. Signs\, bells\, and noise makers encouraged! \nThis event is for people who identify as female or non-binary. \nCreative Surge – Photographer’s Registration \nCreative Surge – Rider’s Registration
URL:https://destinationsilverstar.com/event/nitps-gathering-grounds/
ATTACH;FMTTYPE=image/png:https://destinationsilverstar.com/wp-content/uploads/2026/03/DSS-Event-Listings-36.png
END:VEVENT
BEGIN:VEVENT
DTSTART;TZID=America/Vancouver:20260418T110000
DTEND;TZID=America/Vancouver:20260418T163000
DTSTAMP:20260423T073708
CREATED:20260316T182958Z
LAST-MODIFIED:20260316T182958Z
UID:10000626-1776510000-1776529800@destinationsilverstar.com
SUMMARY:Snake Pit Slalom
DESCRIPTION:A banked and winding course\, making its way down from the top of the Spring Queening park down the Tube lanes\, finishing at the bottom of the carpet. This timed race will get skiers and boarders to slash up the course to see who is crowned King and Queen of the banked Snake Pit: Banked Slalom. \nRiders will race in their respective categories. After the first runs are complete\, the field will be cut in half. Those who qualify will go for a second run; the field will be narrowed down further\, until we have our final group of riders complete a third and final run to determine our champion. \nExample; 40 snowboarders do 1 run\, top 20 riders move on to a second run\, top 10 riders move on to a third and final run. \nWhere: Spring Queening Park – Tube Lanes \nWhen: Saturday\, April 18th\, 2026 – 11:00am to 4:30pm \nPrizing:\n$300 – 1st Open Snowboard/Ski Men’s & Women’s\n$200 – 2nd Open Snowboard/Ski Men’s & Women’s\n$50 – 3rd Open Snowboard/Ski Men’s & Women’s \nREGISTER NOW
URL:https://destinationsilverstar.com/event/snake-pit-slalom/
ATTACH;FMTTYPE=image/png:https://destinationsilverstar.com/wp-content/uploads/2026/03/DSS-Event-Listings-37.png
END:VEVENT
BEGIN:VEVENT
DTSTART;VALUE=DATE:20260425
DTEND;VALUE=DATE:20260426
DTSTAMP:20260423T073708
CREATED:20260316T183235Z
LAST-MODIFIED:20260316T183235Z
UID:10000627-1777075200-1777161599@destinationsilverstar.com
SUMMARY:Park Bucks
DESCRIPTION:SilverStar’s annual park buck jam is back for 2026. Shred around the park riding the rolls\, bowls\, and rails to earn park bucks from our “Pros”. There will be a prize table\, music\, and beer garden down at the bottom of Tube Lanes. \nAREAS TO JAM: \n\nRolls\, bowls\, rails\nParty Train down Snake Pit Slalom\nJump Jam\n\nWHEN: April 25th\, 2026 – All day \nMore info coming soon.
URL:https://destinationsilverstar.com/event/park-bucks/
ATTACH;FMTTYPE=image/png:https://destinationsilverstar.com/wp-content/uploads/2026/03/DSS-Event-Listings-38.png
END:VEVENT
BEGIN:VEVENT
DTSTART;TZID=America/Vancouver:20260619T100000
DTEND;TZID=America/Vancouver:20260619T170000
DTSTAMP:20260423T073708
CREATED:20260421T193654Z
LAST-MODIFIED:20260421T193654Z
UID:10000633-1781863200-1781888400@destinationsilverstar.com
SUMMARY:Bike Park Opening Day
DESCRIPTION:The tentative Opening Date is June 19th! Come up to ride and enjoy the festivities. \nThe gondola will be open from 10:00am to 5:00pm on Friday\, Saturday\, Sunday and holidays. Extended Play is returning with the Comet running until 7:30pm every Wednesday\, Thursday and Friday! \nWe are so excited to have you all back and shredding down the mountain!
URL:https://destinationsilverstar.com/event/bike-park-opening-day/
ATTACH;FMTTYPE=image/jpeg:https://destinationsilverstar.com/wp-content/uploads/2025/04/DSS-Event-Listings-28.jpg
END:VEVENT
BEGIN:VEVENT
DTSTART;VALUE=DATE:20260620
DTEND;VALUE=DATE:20260622
DTSTAMP:20260423T073708
CREATED:20260421T193926Z
LAST-MODIFIED:20260421T193926Z
UID:10000634-1781913600-1782086399@destinationsilverstar.com
SUMMARY:Slay the Dragon
DESCRIPTION:Can you slay the Dragon? This trail running event takes participants through technical and cruisey single track\, crazy fun climbs and long thigh shredding descents. \nSilver Star is proud to be hosting Slay the Dragon\, a trail running race with 3 distances to choose from: 13km\, 25km\, 50km. \nFor more information and to register – click here!
URL:https://destinationsilverstar.com/event/slay-the-dragon/
ATTACH;FMTTYPE=image/jpeg:https://destinationsilverstar.com/wp-content/uploads/2025/04/DSS-Event-Listings-27.jpg
END:VEVENT
BEGIN:VEVENT
DTSTART;VALUE=DATE:20260627
DTEND;VALUE=DATE:20260628
DTSTAMP:20260423T073708
CREATED:20260421T194045Z
LAST-MODIFIED:20260421T194045Z
UID:10000635-1782518400-1782604799@destinationsilverstar.com
SUMMARY:Summer Spectacular
DESCRIPTION:Join us at Silver Star for the 2nd annual Summer Spectacular on June 27th! \nDetails coming soon!
URL:https://destinationsilverstar.com/event/summer-spectacular/
ATTACH;FMTTYPE=image/jpeg:https://destinationsilverstar.com/wp-content/uploads/2025/04/dji_fly_20220919_064514_224_1663595161846_photo.jpg
END:VEVENT
BEGIN:VEVENT
DTSTART;VALUE=DATE:20260701
DTEND;VALUE=DATE:20260702
DTSTAMP:20260423T073708
CREATED:20260421T194153Z
LAST-MODIFIED:20260421T194153Z
UID:10000636-1782864000-1782950399@destinationsilverstar.com
SUMMARY:Canada Day
DESCRIPTION:Celebrate Canada Day with us here at Silver Star! \nDetails coming soon!
URL:https://destinationsilverstar.com/event/canada-day/
ATTACH;FMTTYPE=image/jpeg:https://destinationsilverstar.com/wp-content/uploads/2025/06/DSS-Event-Listings-39.jpg
END:VEVENT
BEGIN:VEVENT
DTSTART;VALUE=DATE:20260711
DTEND;VALUE=DATE:20260713
DTSTAMP:20260423T073708
CREATED:20260421T194502Z
LAST-MODIFIED:20260421T194502Z
UID:10000637-1783728000-1783900799@destinationsilverstar.com
SUMMARY:NOCS Pedal Fest
DESCRIPTION:Get ready for a full-throttle weekend of racing\, and radical vibes as NOCS brings together the diverse bike community for two epic days of enduro action at SilverStar Mountain Resort. With back-to-back race days\, live music\, delicious food\, and unforgettable parties\, this is more than just a race—it’s a celebration of adrenaline and camaraderie for riders and spectators alike. \nBuilding upon the previous women’s enduro event\, this refreshed weekend will feature the Gravity Women’s Enduro on Day 1\, followed by the Manduro on Day 2—inviting men to take their cue from the women’s event and join in the fun. This continues to be a non-profit event with any proceeds going back into trails and other initiatives.  Riders can expect an action-packed celebration of the sport\, complete with great food\, music\, and all the good times that make mountain biking in the Okanagan special. \nFor more details and to register\, click here!
URL:https://destinationsilverstar.com/event/nocs-pedal-fest/
ATTACH;FMTTYPE=image/jpeg:https://destinationsilverstar.com/wp-content/uploads/2025/06/DSS-Event-Listings-40.jpg
END:VEVENT
BEGIN:VEVENT
DTSTART;VALUE=DATE:20260805
DTEND;VALUE=DATE:20260810
DTSTAMP:20260423T073708
CREATED:20260421T194639Z
LAST-MODIFIED:20260421T194639Z
UID:10000638-1785888000-1786319999@destinationsilverstar.com
SUMMARY:Crankworx World Tour
DESCRIPTION:Come on up August 5-9\, 2026 for an action-packed week of races\, competitions\, events\, and great time! \nMore details coming soon!
URL:https://destinationsilverstar.com/event/crankworx-world-tour/
ATTACH;FMTTYPE=image/jpeg:https://destinationsilverstar.com/wp-content/uploads/2025/06/DSS-Event-Listings-43.jpg
END:VEVENT
BEGIN:VEVENT
DTSTART;TZID=America/Vancouver:20261018T183000
DTEND;TZID=America/Vancouver:20261018T210000
DTSTAMP:20260423T073708
CREATED:20260105T220609Z
LAST-MODIFIED:20260105T220609Z
UID:10000576-1792348200-1792357200@destinationsilverstar.com
SUMMARY:An evening with Red Dirt Skinners
DESCRIPTION:We are delighted to present… AN EVENING WITH RED DIRT SKINNERS \n\nRoots Music Canada describe the Red Dirt Skinners as “The Pink Floyd of Folk Music.” Music News Magazine state that there is “an almost Floyd-like quality to some of their music.” The Red Dirt Skinners are widely regarded as one of the most innovative acts to come out of the UK in recent years. \nThe duo’s original style crosses more genres than would make sense to mention. They have won National and International Awards in Songwriting Rock Folk Blues Country Roots Alt-Rock and Indie Rock. If you are open to hearing new songs that are influenced by Pink Floyd Simon and Garfunkel Supertramp Queen and David Bowie coupled with some epic storytelling humour and heartfelt emotions you’ll love a Red Dirt Skinners concert. \nWith male and female harmonies blending together as one voice and Sarah’s trademark soprano saxophone solos you will be swept along by the refreshingly different sound of the Red Dirt Skinners. \nA Red Dirt Skinners concert combines captivating storytelling with knowing lyricism and outstanding musicianship. The Skinners have a natural rapport with their audiences and their live shows are a wonderful experience; a musical journey to remember. Be prepared for laugh-out-loud lyrics followed by songs sure to pull at your heartstrings. Rob and Sarah Skinner now Canadian citizens will steal your hearts. Don’t miss their show!
URL:https://destinationsilverstar.com/event/an-evening-with-red-dirt-skinners/
LOCATION:NATC Auditorium\, 118 Shortt S\, Vernon\, BC\, V1B 3W9\, Canada
ATTACH;FMTTYPE=image/png:https://destinationsilverstar.com/wp-content/uploads/2026/01/thumbnail_Outlook-4gkf0pot.png
END:VEVENT
END:VCALENDAR